BEGIN:VCALENDAR
PRODID:-//eluceo/ical//2.0/EN
VERSION:2.0
CALSCALE:GREGORIAN
BEGIN:VEVENT
UID:a6cb2a23a9f6eef4803b0f34d36b44e9
DTSTAMP:20260423T095446Z
SUMMARY:IOC Speaker\, Kari Reid
DESCRIPTION:Jewish Federation of Greater Naples\nCommunity Calendar\nhttps:
 //jewishnaples.org/calendar/ioc-speaker-kari-reid\n\nHow ALLMEP’s networ
 k is advancing civil society peacebuilding between Israelis and Palestinia
 ns\n\n \n\n \n\nKari Reid\, US Director of the Alliance for Middle East 
 Peace (ALLMEP)\, will discuss how ALLMEP’s network of over 160 organizat
 ions is advancing civil society peacebuilding between Israelis and Palesti
 nians\, whose work has taken on greater urgency during the devastating eve
 nts of this past year. ALLMEP is laying the ground for a sustainable path 
 to peace by bridging grassroots ini...
DTSTART;TZID=America/New_York:20241218T140000
DTEND;TZID=America/New_York:20241218T150000
END:VEVENT
END:VCALENDAR
