BEGIN:VCALENDAR
PRODID:-//eluceo/ical//2.0/EN
VERSION:2.0
CALSCALE:GREGORIAN
BEGIN:VEVENT
UID:ac2c37c50878c9fb193172130ff5ac08
DTSTAMP:20260423T005847Z
SUMMARY:IOC Speaker\, Karen Ezrine
DESCRIPTION:Jewish Federation of Greater Naples\nCommunity Calendar\nhttps:
 //jewishnaples.org/calendar/ioc-speaker-karen-ezrine\n\nIsrael and Oversea
 s Committee & Hadassah presentation\n\n \n\nHADDASAH MEDICAL ORGANIZATION
  – HADASSAH FIRSTS\n\nBy: Dr. Karen Ezrine\n\n \n\nDid you know that on
 e of the immunotherapy drugs used to treat macular degeneration and a numb
 er of cancers came out of research developed at Hadassah Medical Organizat
 ion (HMO)?  Avastin is only one of the breakthroughs developed by Hadassa
 h researchers. Hadassah is known for excellence in clinical care\, educati
 on\, and research and through collabo...
DTSTART;TZID=America/New_York:20240328T143000
DTEND;TZID=America/New_York:20240328T153000
END:VEVENT
END:VCALENDAR
