BEGIN:VCALENDAR
PRODID:-//eluceo/ical//2.0/EN
VERSION:2.0
CALSCALE:GREGORIAN
BEGIN:VEVENT
UID:2847340c1a7f02597d3591d8afb16cd5
DTSTAMP:20260422T082953Z
SUMMARY:IOC Speaker: Dina Kraft
DESCRIPTION:Jewish Federation of Greater Naples\nCommunity Calendar\nhttps:
 //jewishnaples.org/calendar/ioc-speaker-dina-kraft-1717097719\n\n
DTSTART;TZID=America/New_York:20250409T130000
DTEND;TZID=America/New_York:20250409T140000
END:VEVENT
END:VCALENDAR
