BEGIN:VCALENDAR
PRODID:-//eluceo/ical//2.0/EN
VERSION:2.0
CALSCALE:GREGORIAN
BEGIN:VEVENT
UID:5e8a1f0df4eb65ee202d010af70b3ebf
DTSTAMP:20260420T154716Z
SUMMARY:IOC Speaker
DESCRIPTION:Jewish Federation of Greater Naples\nCommunity Calendar\nhttps:
 //jewishnaples.org/calendar/ioc-speaker-1685644683\n\nScott Lasensky will 
 speak about\n\nCan 'Jewish Peoplehood' Save the Jewish People?\n\nEveryone
  is invited to attend this Israel and Overseas presentation\n\n \n\nNina 
 Iser Jewish Cultural Center\n\n \n\nRegister for this free program HERE
DTSTART;TZID=America/New_York:20231204T190000
DTEND;TZID=America/New_York:20231204T200000
END:VEVENT
END:VCALENDAR
