BEGIN:VCALENDAR
PRODID:-//eluceo/ical//2.0/EN
VERSION:2.0
CALSCALE:GREGORIAN
BEGIN:VEVENT
UID:7161ed645d42f8693d9d4d591999ecc6
DTSTAMP:20260424T075528Z
SUMMARY:IOC and Hadassah: Dr. Karen Ezrine
DESCRIPTION:Jewish Federation of Greater Naples\nCommunity Calendar\nhttps:
 //jewishnaples.org/calendar/ioc-and-hadassah-dr-karen-ezrine-1732225120\n\
 nEveryone is invited to join us as we learn about the ‘Updates from Hada
 ssah Medical Organization’ with Guest Speaker Karen Ezrine\n\n \n\nTues
 day\, March 18\n\n1:00-3:00 pm\n\nNina Iser Jewish Cultural Center\n\nJoin
  us for the Mel Toub Lecture & Discussion Series \n\nDessert served after
  the discussion\n\n$18 pp.\n\nAll monies paid to JFGN for this event will 
 be allocated for Hadassah Hospital in Israel\n\n \n\nALL ARE WELCOME!  \
 n\nPlease join us for the Mel Toub Associates Lecture a...
DTSTART;TZID=America/New_York:20250318T130000
DTEND;TZID=America/New_York:20250318T150000
END:VEVENT
END:VCALENDAR
