BEGIN:VCALENDAR
PRODID:-//eluceo/ical//2.0/EN
VERSION:2.0
CALSCALE:GREGORIAN
BEGIN:VEVENT
UID:1fbf693cfdc03fdd10d4976d3e0df836
DTSTAMP:20260422T010232Z
SUMMARY:Intro to Belly Dance
DESCRIPTION:Jewish Federation of Greater Naples\nCommunity Calendar\nhttps:
 //jewishnaples.org/calendar/intro-to-belly-dance-1724092650\n\nIntroductio
 n to Belly Dance\n\nTuesday\, November 5 \n\n6:00PM\n\nNina Iser Jewish C
 ultural Center\n\n \n\n$20 pp\n\nLimited to 32 people\n\nSponsored by JFG
 N and WCA
DTSTART;TZID=America/New_York:20241105T180000
DTEND;TZID=America/New_York:20241105T200000
END:VEVENT
END:VCALENDAR
