BEGIN:VCALENDAR
PRODID:-//eluceo/ical//2.0/EN
VERSION:2.0
CALSCALE:GREGORIAN
BEGIN:VEVENT
UID:80707a7e8c4c6b7ed7af02bda61c1fc7
DTSTAMP:20260422T212518Z
SUMMARY:International Holocaust Remembrance Day
DESCRIPTION:Jewish Federation of Greater Naples\nCommunity Calendar\nhttps:
 //jewishnaples.org/calendar/international-holocaust-remembrance-day\n\nAll
  day
DTSTART;TZID=America/New_York:20170127T090000
DTEND;TZID=America/New_York:20170127T235959
END:VEVENT
END:VCALENDAR
