BEGIN:VCALENDAR
PRODID:-//eluceo/ical//2.0/EN
VERSION:2.0
CALSCALE:GREGORIAN
BEGIN:VEVENT
UID:69155b87b4eef663095d9ac965070937
DTSTAMP:20260422T012037Z
SUMMARY:Impact of Art on Community Identity
DESCRIPTION:Jewish Federation of Greater Naples\nCommunity Calendar\nhttps:
 //jewishnaples.org/calendar/impact-of-art-on-community-identity-1715099610
 \n\nEveryone is invited to hear Dale Hackerman present on\n"Impact of Art 
 on Community Identity"\n\nThe way art\, beyond the setting of a museum\, 
 can act as a conduit for urban transformation and community identity.\n\nW
 ednesday\, June 26 from 3:00-4:30 PM\n\nFREE program for all
DTSTART;TZID=America/New_York:20240626T150000
DTEND;TZID=America/New_York:20240626T163000
END:VEVENT
END:VCALENDAR
