BEGIN:VCALENDAR
PRODID:-//eluceo/ical//2.0/EN
VERSION:2.0
CALSCALE:GREGORIAN
BEGIN:VEVENT
UID:ed55e80d0c51079d9cfbf5c9c2733bd3
DTSTAMP:20260423T201827Z
SUMMARY:IAC: Speaker Herb Keinon
DESCRIPTION:Jewish Federation of Greater Naples\nCommunity Calendar\nhttps:
 //jewishnaples.org/calendar/iac-speaker-herb-keinon-1657547459\n\nJFGN\nIA
 C presents Herb Keinon
DTSTART;TZID=America/New_York:20221020T170000
DTEND;TZID=America/New_York:20221020T180000
END:VEVENT
END:VCALENDAR
