BEGIN:VCALENDAR
PRODID:-//eluceo/ical//2.0/EN
VERSION:2.0
CALSCALE:GREGORIAN
BEGIN:VEVENT
UID:a1abf5f8c1e2349ab970430e1d263a04
DTSTAMP:20260422T224033Z
SUMMARY:IAC Speaker Herb Keinon
DESCRIPTION:Jewish Federation of Greater Naples\nCommunity Calendar\nhttps:
 //jewishnaples.org/calendar/iac-speaker-1557947871\n\nBuy your tickets fro
 m the Jewish Federation of Greater Naples.\n$18 pp
DTSTART;TZID=America/New_York:20191107T193000
DTEND;TZID=America/New_York:20191107T213000
END:VEVENT
END:VCALENDAR
