BEGIN:VCALENDAR
PRODID:-//eluceo/ical//2.0/EN
VERSION:2.0
CALSCALE:GREGORIAN
BEGIN:VEVENT
UID:47eb8caaa2a7163495493f9e3bd6b3a7
DTSTAMP:20260423T131900Z
SUMMARY:IAC National Conference
DESCRIPTION:Jewish Federation of Greater Naples\nCommunity Calendar\nhttps:
 //jewishnaples.org/calendar/iac-national-conference-1491515715\n\nJoin tho
 usands of community members at the IAC National Conference in Washington D
 C to experience influential thought leaders\, industry experts\, senior po
 litical figures\, diplomatic figures\, community leaders\, prominent journ
 alists and more. This inspiring three-day journey will explore Israeli-Ame
 rican and Jewish identity\, unite the Israeli-American and Jewish communit
 ies\, and understand how we can effectively strengthen Israel\, the Nation
 -State of the Jewish People.\n\nThe IAC National Conf...
DTSTART;TZID=America/New_York:20171103T170000
DTEND;TZID=America/New_York:20171106T120000
END:VEVENT
END:VCALENDAR
