BEGIN:VCALENDAR
PRODID:-//eluceo/ical//2.0/EN
VERSION:2.0
CALSCALE:GREGORIAN
BEGIN:VEVENT
UID:ea08faccbe77483187cb9af97b9469d7
DTSTAMP:20260420T182747Z
SUMMARY:IAC committee meetings
DESCRIPTION:Jewish Federation of Greater Naples\nCommunity Calendar\nhttps:
 //jewishnaples.org/calendar/iac-committee-meetings-1528397539\n\nIAC Commi
 ttee Meetings
DTSTART;TZID=America/New_York:20181101T090000
DTEND;TZID=America/New_York:20181101T100000
END:VEVENT
END:VCALENDAR
