BEGIN:VCALENDAR
PRODID:-//eluceo/ical//2.0/EN
VERSION:2.0
CALSCALE:GREGORIAN
BEGIN:VEVENT
UID:2863b4016f37a12629776781d4143b26
DTSTAMP:20260422T011045Z
SUMMARY:IAC Committee Meeting
DESCRIPTION:Jewish Federation of Greater Naples\nCommunity Calendar\nhttps:
 //jewishnaples.org/calendar/iac-committee-meeting-1528397490\n\nIAC
DTSTART;TZID=America/New_York:20181011T090000
DTEND;TZID=America/New_York:20181011T100000
END:VEVENT
END:VCALENDAR
