BEGIN:VCALENDAR
PRODID:-//eluceo/ical//2.0/EN
VERSION:2.0
CALSCALE:GREGORIAN
BEGIN:VEVENT
UID:1ffd13703826346f1b6aef7fbd0eefd5
DTSTAMP:20260422T031844Z
SUMMARY:IAC August Meeting
DESCRIPTION:Jewish Federation of Greater Naples\nCommunity Calendar\nhttps:
 //jewishnaples.org/calendar/iac-august-meeting\n\nIAC meets at the JFCC
DTSTART;TZID=America/New_York:20160804T090000
DTEND;TZID=America/New_York:20160804T100000
END:VEVENT
END:VCALENDAR
