BEGIN:VCALENDAR
PRODID:-//eluceo/ical//2.0/EN
VERSION:2.0
CALSCALE:GREGORIAN
BEGIN:VEVENT
UID:b0c24d44d6fd4c2c45770dfc80ebe5c4
DTSTAMP:20260422T181136Z
SUMMARY:IAC and ZOA Dr. Mitchell Bard speaker
DESCRIPTION:Jewish Federation of Greater Naples\nCommunity Calendar\nhttps:
 //jewishnaples.org/calendar/iac-and-zoa-dr-mitchell-bard-speaker\n\nIAC an
 d ZOA presnts: Dr. Mitchell Bard to speak at Chabad\n\n7:30 pm\n\nThere is
  a fee to attend. Contact Jerry Sobel: JerrySobel@aol.com\n\n 
DTSTART;TZID=America/New_York:20161207T193000
DTEND;TZID=America/New_York:20161207T210000
END:VEVENT
END:VCALENDAR
