BEGIN:VCALENDAR
PRODID:-//eluceo/ical//2.0/EN
VERSION:2.0
CALSCALE:GREGORIAN
BEGIN:VEVENT
UID:55e74496f2399edc0a6db83949d4a87d
DTSTAMP:20260420T053631Z
SUMMARY:Holocaust Remembrance Day- GenShoah
DESCRIPTION:Jewish Federation of Greater Naples\nCommunity Calendar\nhttps:
 //jewishnaples.org/calendar/holocaust-remembrance-day--genshoah-1585085352
 \n\nSave the date!
DTSTART;TZID=America/New_York:20210127T180000
DTEND;TZID=America/New_York:20210127T213000
END:VEVENT
END:VCALENDAR
