BEGIN:VCALENDAR
PRODID:-//eluceo/ical//2.0/EN
VERSION:2.0
CALSCALE:GREGORIAN
BEGIN:VEVENT
UID:66e2e3c5b121667e0ab51ffd44f662e3
DTSTAMP:20260424T093717Z
SUMMARY:Holocaust Remembrance Day
DESCRIPTION:Jewish Federation of Greater Naples\nCommunity Calendar\nhttps:
 //jewishnaples.org/calendar/holocaust-remembrance-day\n\nCommemorating Int
 ernational Holocaust Remembrance Day- Film Screening of “Boys of Terezin
 \,” a documentary about five Holocaust survivors\, a boy choir\, and a c
 hamber music group who unite to tell the story of a secret concentration c
 amp journal.  With accompanying program and special guests scheduled to a
 ppear. Temple Shalom\, 4630 Pine Ridge Road\, Naples\, 2 p.m. RSVP at holo
 caustmuseumswfl.org\n\n 
DTSTART;TZID=America/New_York:20200126T140000
DTEND;TZID=America/New_York:20200126T160000
END:VEVENT
END:VCALENDAR
