BEGIN:VCALENDAR
PRODID:-//eluceo/ical//2.0/EN
VERSION:2.0
CALSCALE:GREGORIAN
BEGIN:VEVENT
UID:7556cd3f0fd2e0ce4e02d43fce1bb826
DTSTAMP:20260422T115117Z
SUMMARY:Holocaust Museum\, Violins of Hope
DESCRIPTION:Jewish Federation of Greater Naples\nCommunity Calendar\nhttps:
 //jewishnaples.org/calendar/holocaust-museum-violins-of-hope\n\nLocation f
 or this event is Temple Shalom\n\nTalk by Author of Violins of Hope\, Dr. 
 James Grymes
DTSTART;TZID=America/New_York:20181212T190000
DTEND;TZID=America/New_York:20181212T210000
END:VEVENT
END:VCALENDAR
