BEGIN:VCALENDAR
PRODID:-//eluceo/ical//2.0/EN
VERSION:2.0
CALSCALE:GREGORIAN
BEGIN:VEVENT
UID:9a2edcd163d8ccecf304c817e245055c
DTSTAMP:20260423T223642Z
SUMMARY:Holocaust Museum Triumph
DESCRIPTION:Jewish Federation of Greater Naples\nCommunity Calendar\nhttps:
 //jewishnaples.org/calendar/holocaust-museum-triumph-1526654477\n\nHolocau
 st Museum Triumph
DTSTART;TZID=America/New_York:20190304T173000
DTEND;TZID=America/New_York:20190304T210000
END:VEVENT
END:VCALENDAR
