BEGIN:VCALENDAR
PRODID:-//eluceo/ical//2.0/EN
VERSION:2.0
CALSCALE:GREGORIAN
BEGIN:VEVENT
UID:75d81879e688a836181290c3572ffeaf
DTSTAMP:20260422T164335Z
SUMMARY:Holocaust Museum Triumph
DESCRIPTION:Jewish Federation of Greater Naples\nCommunity Calendar\nhttps:
 //jewishnaples.org/calendar/holocaust-museum-triumph\n\nHolocaust Museum
DTSTART;TZID=America/New_York:20170322T180000
DTEND;TZID=America/New_York:20170322T210000
END:VEVENT
END:VCALENDAR
