BEGIN:VCALENDAR
PRODID:-//eluceo/ical//2.0/EN
VERSION:2.0
CALSCALE:GREGORIAN
BEGIN:VEVENT
UID:824938d61e211be864d6db56dd35c8f5
DTSTAMP:20260423T134026Z
SUMMARY:Holocaust Museum Luncheon
DESCRIPTION:Jewish Federation of Greater Naples\nCommunity Calendar\nhttps:
 //jewishnaples.org/calendar/holocaust-museum-luncheon-1585590497\n\nHoloca
 ust Museum Luncheon at 11:30 am
DTSTART;TZID=America/New_York:20201210T113000
DTEND;TZID=America/New_York:20201210T133000
END:VEVENT
END:VCALENDAR
