BEGIN:VCALENDAR
PRODID:-//eluceo/ical//2.0/EN
VERSION:2.0
CALSCALE:GREGORIAN
BEGIN:VEVENT
UID:3c5046b3a2dcee998fb8ca3c3ccebe3c
DTSTAMP:20260422T233356Z
SUMMARY:Holocaust Museum\, Luncheon
DESCRIPTION:Jewish Federation of Greater Naples\nCommunity Calendar\nhttps:
 //jewishnaples.org/calendar/holocaust-museum-luncheon\n\nHolocaust Museum\
 n\n 
DTSTART;TZID=America/New_York:20181213T110000
DTEND;TZID=America/New_York:20181213T133000
END:VEVENT
END:VCALENDAR
