BEGIN:VCALENDAR
PRODID:-//eluceo/ical//2.0/EN
VERSION:2.0
CALSCALE:GREGORIAN
BEGIN:VEVENT
UID:c459a78ca469a1d1a77c0e6ee1a26dec
DTSTAMP:20260423T210136Z
SUMMARY:Hol. Msm.Luncheon and Triumph
DESCRIPTION:Jewish Federation of Greater Naples\nCommunity Calendar\nhttps:
 //jewishnaples.org/calendar/hol-msmluncheon-and-triumph-1751577022\n\nLunc
 heon and Triumph
DTSTART;TZID=America/New_York:20251203T113000
DTEND;TZID=America/New_York:20251203T140000
END:VEVENT
END:VCALENDAR
