BEGIN:VCALENDAR
PRODID:-//eluceo/ical//2.0/EN
VERSION:2.0
CALSCALE:GREGORIAN
BEGIN:VEVENT
UID:86383010b351be9d31e4958584b9e805
DTSTAMP:20260422T013248Z
SUMMARY:Hol Msm The Luncheon – Annual Winter Fundraising event
DESCRIPTION:Jewish Federation of Greater Naples\nCommunity Calendar\nhttps:
 //jewishnaples.org/calendar/hol-msm-the-luncheon--annual-winter-fundraisin
 g-event-1721245484\n\nThe Luncheon – Annual Winter Fundraising event Tim
 e: 11:30am – 1:30pm Location: Vineyards Country Club\, Naples\, FL Infor
 mation: info@hmcec.org
DTSTART;TZID=America/New_York:20241204T113000
DTEND;TZID=America/New_York:20241204T133000
END:VEVENT
END:VCALENDAR
