BEGIN:VCALENDAR
PRODID:-//eluceo/ical//2.0/EN
VERSION:2.0
CALSCALE:GREGORIAN
BEGIN:VEVENT
UID:5a36d97a2f7dba7eb3e7b00331f71f5c
DTSTAMP:20260422T122858Z
SUMMARY:Hol. Msm Luncheon
DESCRIPTION:Jewish Federation of Greater Naples\nCommunity Calendar\nhttps:
 //jewishnaples.org/calendar/hol-msm-luncheon-1654261433\n\nThe Holocaust M
 useum's Annual Luncheon will be held at Royal Poinciana Golf Club.\nTicket
 s will be available at www.hmcec.org
DTSTART;TZID=America/New_York:20221207T113000
DTEND;TZID=America/New_York:20221207T140000
END:VEVENT
END:VCALENDAR
