BEGIN:VCALENDAR
PRODID:-//eluceo/ical//2.0/EN
VERSION:2.0
CALSCALE:GREGORIAN
BEGIN:VEVENT
UID:15cb472ca41f5954ae86fc979a1a0bb8
DTSTAMP:20260423T165644Z
SUMMARY:HM Triumph March 6
DESCRIPTION:Jewish Federation of Greater Naples\nCommunity Calendar\nhttps:
 //jewishnaples.org/calendar/hm-triumph-march-6-1681504883\n\nHolocaust Mus
 eum & Cohen Education Center Triumph
DTSTART;TZID=America/New_York:20240306T173000
DTEND;TZID=America/New_York:20240306T203000
END:VEVENT
END:VCALENDAR
