BEGIN:VCALENDAR
PRODID:-//eluceo/ical//2.0/EN
VERSION:2.0
CALSCALE:GREGORIAN
BEGIN:VEVENT
UID:bcf17840efb03a434491f68c22e68eed
DTSTAMP:20260421T233145Z
SUMMARY:HM Triumph Event
DESCRIPTION:Jewish Federation of Greater Naples\nCommunity Calendar\nhttps:
 //jewishnaples.org/calendar/hm-triumph-event\n\nHolocaust Museum \n\nTriu
 mph Event
DTSTART;TZID=America/New_York:20180305T180000
DTEND;TZID=America/New_York:20180305T200000
END:VEVENT
END:VCALENDAR
