BEGIN:VCALENDAR
PRODID:-//eluceo/ical//2.0/EN
VERSION:2.0
CALSCALE:GREGORIAN
BEGIN:VEVENT
UID:bdc0ee62c49a7a238459c8c147ce28d2
DTSTAMP:20260422T224213Z
SUMMARY:HM Triumph
DESCRIPTION:Jewish Federation of Greater Naples\nCommunity Calendar\nhttps:
 //jewishnaples.org/calendar/hm-triumph-1639826107\n\nHolocaust Museum Even
 t
DTSTART;TZID=America/New_York:20220303T180000
DTEND;TZID=America/New_York:20220303T200000
END:VEVENT
END:VCALENDAR
