BEGIN:VCALENDAR
PRODID:-//eluceo/ical//2.0/EN
VERSION:2.0
CALSCALE:GREGORIAN
BEGIN:VEVENT
UID:252b3c3600865cd3bed70865e556b468
DTSTAMP:20260424T055311Z
SUMMARY:HM The Luncheon
DESCRIPTION:Jewish Federation of Greater Naples\nCommunity Calendar\nhttps:
 //jewishnaples.org/calendar/hm-the-luncheon-1623944673\n\nThe Luncheon Win
 ter Fundraiser “Remember – the Story of Abe Price”\n\nDate: Thursday
 \, December 2\, 2021 \n\nLocation: Arthrex One on Arthrex Naples Campus\n
 \nTime: 11:30am – 1:00pm\n\nPrice: $150\; Sponsorships available\n\nInfo
 rmation and RSVP link: http://weblink.donorperfect.com/TheLuncheon2021
DTSTART;TZID=America/New_York:20211202T113000
DTEND;TZID=America/New_York:20211202T130000
END:VEVENT
END:VCALENDAR
