BEGIN:VCALENDAR
PRODID:-//eluceo/ical//2.0/EN
VERSION:2.0
CALSCALE:GREGORIAN
BEGIN:VEVENT
UID:c0e4f6c911746c275d7d1e7358561e26
DTSTAMP:20260423T082051Z
SUMMARY:HM Stuart Mest\, M.D. Lecture Series
DESCRIPTION:Jewish Federation of Greater Naples\nCommunity Calendar\nhttps:
 //jewishnaples.org/calendar/hm-stuart-mest-md-lecture-series-1623945981\n\
 nStuart Mest\, M.D. Lecture Series (two-part series) on “Eugenics\, Expe
 riments\, Ethics: Nazi Germany\, Japan and the U.S." – Part 2 of 2\n\nDa
 te: Wednesday\, March 2\, 2022\n\nLocation: Holocaust Museum & Cohen Educa
 tion Center\, 975 Imperial Golf Course Blvd\, Naples\, FL 34110\n\nTime: 5
 :00pm – 6:30pm\n\nPrice: $40 for two-part series\n\nReservation required
DTSTART;TZID=America/New_York:20220302T170000
DTEND;TZID=America/New_York:20220302T183000
END:VEVENT
END:VCALENDAR
