BEGIN:VCALENDAR
PRODID:-//eluceo/ical//2.0/EN
VERSION:2.0
CALSCALE:GREGORIAN
BEGIN:VEVENT
UID:eada16247399d3f754da12bb2e116415
DTSTAMP:20260420T060251Z
SUMMARY:HM Stuart Mest\, M.D. Lecture Series
DESCRIPTION:Jewish Federation of Greater Naples\nCommunity Calendar\nhttps:
 //jewishnaples.org/calendar/hm-stuart-mest-md-lecture-series-1623945891\n\
 nStuart Mest\, M.D. Lecture Series (two-part series) on "Eugenics\, Experi
 ments\, Ethics: Nazi Germany\, Japan and the U.S." – Part 1 of 2\n\nDate
 : Wednesday\, February 23\, 2022\n\nLocation: Holocaust Museum & Cohen Edu
 cation Center\, 975 Imperial Golf Course Blvd\, Naples\, FL 34110\n\nTime:
  5:00pm – 6:30pm\n\nPrice: $40 for two-part series\n\nReservation requir
 ed
DTSTART;TZID=America/New_York:20220223T170000
DTEND;TZID=America/New_York:20220223T183000
END:VEVENT
END:VCALENDAR
