BEGIN:VCALENDAR
PRODID:-//eluceo/ical//2.0/EN
VERSION:2.0
CALSCALE:GREGORIAN
BEGIN:VEVENT
UID:99660ee6dbcb6bd452f899966c72ccbe
DTSTAMP:20260423T081959Z
SUMMARY:HM Executive Meeting
DESCRIPTION:Jewish Federation of Greater Naples\nCommunity Calendar\nhttps:
 //jewishnaples.org/calendar/hm-executive-meeting\n\nHolocaust Museum Execu
 tive Meetings\n\n1st Monday of the month\n\n4:00 pm
DTSTART;TZID=America/New_York:20160704T160000
DTEND;TZID=America/New_York:20160704T160000
END:VEVENT
END:VCALENDAR
