BEGIN:VCALENDAR
PRODID:-//eluceo/ical//2.0/EN
VERSION:2.0
CALSCALE:GREGORIAN
BEGIN:VEVENT
UID:0473a29f889256b83ba11cd181f7db18
DTSTAMP:20260422T215935Z
SUMMARY:HM Ellaine Rosen Lecture Series
DESCRIPTION:Jewish Federation of Greater Naples\nCommunity Calendar\nhttps:
 //jewishnaples.org/calendar/hm-ellaine-rosen-lecture-series-1623945657\n\n
 Ellaine Rosen Lecture Series (five-part series) on “Nazi-Looted Art” 
 – Part 4 of 5\n\nDate: Wednesday\, February 2\, 2022\n\nLocation: Holoca
 ust Museum & Cohen Education Center\, 975 Imperial Golf Course Blvd\, Napl
 es\, FL 34110\n\nTime: 5:00pm – 6:30pm\n\nPrice: $100 for series/$20 per
  lecture\n\nReservation required
DTSTART;TZID=America/New_York:20220202T170000
DTEND;TZID=America/New_York:20220202T183000
END:VEVENT
END:VCALENDAR
