BEGIN:VCALENDAR
PRODID:-//eluceo/ical//2.0/EN
VERSION:2.0
CALSCALE:GREGORIAN
BEGIN:VEVENT
UID:3a0ed706143383b08e43f16c1bd9fa52
DTSTAMP:20260421T221327Z
SUMMARY:HM Ellaine Rosen Lecture Series
DESCRIPTION:Jewish Federation of Greater Naples\nCommunity Calendar\nhttps:
 //jewishnaples.org/calendar/hm-ellaine-rosen-lecture-series-1623945427\n\n
 Ellaine Rosen Lecture Series (five-part series) on “Nazi-Looted Art” 
 – Part 3 of 5\n\nDate: Wednesday\, January 26\, 2022\n\nLocation: Holoca
 ust Museum & Cohen Education Center\, 975 Imperial Golf Course Blvd\, Napl
 es\, FL 34110\n\nTime: 5:00pm\n\nPrice: $100 for series/$20 per lecture\n\
 nReservation required
DTSTART;TZID=America/New_York:20220126T170000
DTEND;TZID=America/New_York:20220126T183000
END:VEVENT
END:VCALENDAR
