BEGIN:VCALENDAR
PRODID:-//eluceo/ical//2.0/EN
VERSION:2.0
CALSCALE:GREGORIAN
BEGIN:VEVENT
UID:b158f79e5e55518c2c80b90de3274364
DTSTAMP:20260423T213742Z
SUMMARY:HM Ellaine Rosen Lecture Series
DESCRIPTION:Jewish Federation of Greater Naples\nCommunity Calendar\nhttps:
 //jewishnaples.org/calendar/hm-ellaine-rosen-lecture-series-1623945242\n\n
 Ellaine Rosen Lecture Series (five-part series) on “Nazi-Looted Art” 
 – Part 1 of 5\n\nDate: Wednesday\, January 12\, 2022\n\nLocation: Holoca
 ust Museum & Cohen Education Center\, 975 Imperial Golf Course Blvd\, Napl
 es\, FL 34110\n\nTime: 5:00pm – 6:30pm\n\nPrice: $100 for series/$20 per
  lecture\n\nReservation required
DTSTART;TZID=America/New_York:20220112T170000
DTEND;TZID=America/New_York:20220112T183000
END:VEVENT
END:VCALENDAR
