BEGIN:VCALENDAR
PRODID:-//eluceo/ical//2.0/EN
VERSION:2.0
CALSCALE:GREGORIAN
BEGIN:VEVENT
UID:e5404587fd12d96f39ca011e39d539ae
DTSTAMP:20260423T144034Z
SUMMARY:HJH Yom Kippur
DESCRIPTION:Jewish Federation of Greater Naples\nCommunity Calendar\nhttps:
 //jewishnaples.org/calendar/hjh-yom-kippur\n\nHumanistic Jewish Havurah\n\
 n​Break The Fast
DTSTART;TZID=America/New_York:20170930T170000
DTEND;TZID=America/New_York:20170930T190000
END:VEVENT
END:VCALENDAR
