BEGIN:VCALENDAR
PRODID:-//eluceo/ical//2.0/EN
VERSION:2.0
CALSCALE:GREGORIAN
BEGIN:VEVENT
UID:1f43c383449a60e77beda0a8ae81270b
DTSTAMP:20260422T114207Z
SUMMARY:HJH Shabbat Dinner
DESCRIPTION:Jewish Federation of Greater Naples\nCommunity Calendar\nhttps:
 //jewishnaples.org/calendar/hjh-shabbat-dinner\n\nHumanistic Jewish Havura
 h\n\nShabbat Purim Dinner
DTSTART;TZID=America/New_York:20180302T173000
DTEND;TZID=America/New_York:20180302T193000
END:VEVENT
END:VCALENDAR
