BEGIN:VCALENDAR
PRODID:-//eluceo/ical//2.0/EN
VERSION:2.0
CALSCALE:GREGORIAN
BEGIN:VEVENT
UID:7617cb9e35ea6c6273fe2f7a64996cc3
DTSTAMP:20260424T042906Z
SUMMARY:HJH Program March 19
DESCRIPTION:Jewish Federation of Greater Naples\nCommunity Calendar\nhttps:
 //jewishnaples.org/calendar/hjh-program-march-19\n\nHumanistic Jewish Havu
 rah
DTSTART;TZID=America/New_York:20170319T143000
DTEND;TZID=America/New_York:20170319T143000
END:VEVENT
END:VCALENDAR
