BEGIN:VCALENDAR
PRODID:-//eluceo/ical//2.0/EN
VERSION:2.0
CALSCALE:GREGORIAN
BEGIN:VEVENT
UID:1bae51781fbeedf5840edcf2832cb4c0
DTSTAMP:20260423T025001Z
SUMMARY:HJH Program Feb
DESCRIPTION:Jewish Federation of Greater Naples\nCommunity Calendar\nhttps:
 //jewishnaples.org/calendar/hjh-program-feb\n\nHumanistic Jewish Havurah
DTSTART;TZID=America/New_York:20170219T130000
DTEND;TZID=America/New_York:20170219T130000
END:VEVENT
END:VCALENDAR
