BEGIN:VCALENDAR
PRODID:-//eluceo/ical//2.0/EN
VERSION:2.0
CALSCALE:GREGORIAN
BEGIN:VEVENT
UID:90474e1ca043ce6d894a2418a8efc3f4
DTSTAMP:20260420T161309Z
SUMMARY:HJH Program
DESCRIPTION:Jewish Federation of Greater Naples\nCommunity Calendar\nhttps:
 //jewishnaples.org/calendar/hjh-program\n\nHumanistic Jewish Havurah
DTSTART;TZID=America/New_York:20170115T130000
DTEND;TZID=America/New_York:20170115T130000
END:VEVENT
END:VCALENDAR
