BEGIN:VCALENDAR
PRODID:-//eluceo/ical//2.0/EN
VERSION:2.0
CALSCALE:GREGORIAN
BEGIN:VEVENT
UID:38f0b82b437da2d59d67fb74b9cf2c72
DTSTAMP:20260422T103108Z
SUMMARY:HJH Pot Luck Shabbat Dinners
DESCRIPTION:Jewish Federation of Greater Naples\nCommunity Calendar\nhttps:
 //jewishnaples.org/calendar/hjh-pot-luck-shabbat-dinners-1528301404\n\nVen
 ue to be determined
DTSTART;TZID=America/New_York:20190201T173000
DTEND;TZID=America/New_York:20190201T193000
END:VEVENT
END:VCALENDAR
