BEGIN:VCALENDAR
PRODID:-//eluceo/ical//2.0/EN
VERSION:2.0
CALSCALE:GREGORIAN
BEGIN:VEVENT
UID:8a51f94a4fa69ad8ca234b7ec0ecfde2
DTSTAMP:20260422T082441Z
SUMMARY:HJH Pot Luck Chanukah Dinner
DESCRIPTION:Jewish Federation of Greater Naples\nCommunity Calendar\nhttps:
 //jewishnaples.org/calendar/hjh-pot-luck-chanukah-dinner\n\nHJH\n\nCheck o
 n time and location
DTSTART;TZID=America/New_York:20181207T180000
DTEND;TZID=America/New_York:20181207T200000
END:VEVENT
END:VCALENDAR
