BEGIN:VCALENDAR
PRODID:-//eluceo/ical//2.0/EN
VERSION:2.0
CALSCALE:GREGORIAN
BEGIN:VEVENT
UID:1a3ae4a324f9ac01b090ea70f21b7dfd
DTSTAMP:20260423T160822Z
SUMMARY:HJH Jeffrey Lipkes
DESCRIPTION:Jewish Federation of Greater Naples\nCommunity Calendar\nhttps:
 //jewishnaples.org/calendar/hjh-jeffrey-lipkes\n\nHumanistic Jewish Havura
 h\n\nSunday\, April 15\, 2018 Professor Jeffrey Lipkes to speak on "Nazis 
 & Christians."
DTSTART;TZID=America/New_York:20180415T133000
DTEND;TZID=America/New_York:20180415T153000
END:VEVENT
END:VCALENDAR
