BEGIN:VCALENDAR
PRODID:-//eluceo/ical//2.0/EN
VERSION:2.0
CALSCALE:GREGORIAN
BEGIN:VEVENT
UID:8190022c27d60f05c52a97f417e1d6e7
DTSTAMP:20260420T162701Z
SUMMARY:HJH Event
DESCRIPTION:Jewish Federation of Greater Naples\nCommunity Calendar\nhttps:
 //jewishnaples.org/calendar/hjh-event-20\n\nHJH\n\n 
DTSTART;TZID=America/New_York:20190120T130000
DTEND;TZID=America/New_York:20190120T150000
END:VEVENT
END:VCALENDAR
