BEGIN:VCALENDAR
PRODID:-//eluceo/ical//2.0/EN
VERSION:2.0
CALSCALE:GREGORIAN
BEGIN:VEVENT
UID:3ed092c550e2e347916fcc10342229b7
DTSTAMP:20260422T213641Z
SUMMARY:HJH Event
DESCRIPTION:Jewish Federation of Greater Naples\nCommunity Calendar\nhttps:
 //jewishnaples.org/calendar/hjh-event\n\nHJH\n\nat\n\nJFGN
DTSTART;TZID=America/New_York:20190113T130000
DTEND;TZID=America/New_York:20190113T160000
END:VEVENT
END:VCALENDAR
