BEGIN:VCALENDAR
PRODID:-//eluceo/ical//2.0/EN
VERSION:2.0
CALSCALE:GREGORIAN
BEGIN:VEVENT
UID:16e719523a4fdd37926e2f919a1a74b7
DTSTAMP:20260423T105647Z
SUMMARY:HJH Community Meeting
DESCRIPTION:Jewish Federation of Greater Naples\nCommunity Calendar\nhttps:
 //jewishnaples.org/calendar/hjh-community-meeting-1528301883\n\nHJH
DTSTART;TZID=America/New_York:20190317T130000
DTEND;TZID=America/New_York:20190317T153000
END:VEVENT
END:VCALENDAR
