BEGIN:VCALENDAR
PRODID:-//eluceo/ical//2.0/EN
VERSION:2.0
CALSCALE:GREGORIAN
BEGIN:VEVENT
UID:2b654d1f3dca8a8346ce712253491119
DTSTAMP:20260423T202637Z
SUMMARY:HJH Chanukah Dinner
DESCRIPTION:Jewish Federation of Greater Naples\nCommunity Calendar\nhttps:
 //jewishnaples.org/calendar/hjh-chanukah-dinner\n\nHumanistic Jewish Havur
 ah\n\nChanukah Dinner
DTSTART;TZID=America/New_York:20171215T173000
DTEND;TZID=America/New_York:20171215T193000
END:VEVENT
END:VCALENDAR
