BEGIN:VCALENDAR
PRODID:-//eluceo/ical//2.0/EN
VERSION:2.0
CALSCALE:GREGORIAN
BEGIN:VEVENT
UID:0510227e04f1579cb3240e02260c1974
DTSTAMP:20260423T093912Z
SUMMARY:HJH Chanukah Event
DESCRIPTION:Jewish Federation of Greater Naples\nCommunity Calendar\nhttps:
 //jewishnaples.org/calendar/hjh-chanukah\n\nHumanistic Jewish Havurah
DTSTART;TZID=America/New_York:20161227T173000
DTEND;TZID=America/New_York:20161227T173000
END:VEVENT
END:VCALENDAR
