BEGIN:VCALENDAR
PRODID:-//eluceo/ical//2.0/EN
VERSION:2.0
CALSCALE:GREGORIAN
BEGIN:VEVENT
UID:9cebd15807411aaae0f4436fd7a39cfd
DTSTAMP:20260422T091828Z
SUMMARY:Heart Disease Uncovered with Dr. Joel Kahn
DESCRIPTION:Jewish Federation of Greater Naples\nCommunity Calendar\nhttps:
 //jewishnaples.org/calendar/heart-disease-uncovered-with-dr-joel-kahn-1732
 556443\n\nHeart Disease Uncovered: A Healthy\, Integrative\, and Preventiv
 e Approach with Heart Doc\, Dr. Joel Kahn\n\n\n• "You are as old as your
  arteries": Our arteries reflect our body's true age. Maintaining flexible
 \, clean arteries can help prevent heart disease and slow aging\, while st
 iff or clogged arteries accelerate it.\n\n\n• Leveraging Technology to R
 eveal "Arterial Age": Today’s advanced imaging and blood tests can accur
 ately assess the health of your arteries\, offering a more precise un...
DTSTART;TZID=America/New_York:20250213T191500
DTEND;TZID=America/New_York:20250213T210000
END:VEVENT
END:VCALENDAR
