BEGIN:VCALENDAR
PRODID:-//eluceo/ical//2.0/EN
VERSION:2.0
CALSCALE:GREGORIAN
BEGIN:VEVENT
UID:39fc912147a13704ef622ba672023723
DTSTAMP:20260422T215627Z
SUMMARY:HDH Women's Health Symposium
DESCRIPTION:Jewish Federation of Greater Naples\nCommunity Calendar\nhttps:
 //jewishnaples.org/calendar/hdh-womens-health-symposium\n\nA variety of he
 alth care professionals will focus on key issues of women's health and cut
 ting edge research will can change treatment of various conditions.
DTSTART;TZID=America/New_York:20241028T090000
DTEND;TZID=America/New_York:20241028T170000
END:VEVENT
END:VCALENDAR
